BEGIN:VCALENDAR
VERSION:2.0
PRODID:-//Guelph Photographers Guild - ECPv6.15.20//NONSGML v1.0//EN
CALSCALE:GREGORIAN
METHOD:PUBLISH
X-WR-CALNAME:Guelph Photographers Guild
X-ORIGINAL-URL:https://guelphphotographersguild.com
X-WR-CALDESC:Events for Guelph Photographers Guild
REFRESH-INTERVAL;VALUE=DURATION:PT1H
X-Robots-Tag:noindex
X-PUBLISHED-TTL:PT1H
BEGIN:VTIMEZONE
TZID:America/Toronto
BEGIN:DAYLIGHT
TZOFFSETFROM:-0500
TZOFFSETTO:-0400
TZNAME:EDT
DTSTART:20240310T070000
END:DAYLIGHT
BEGIN:STANDARD
TZOFFSETFROM:-0400
TZOFFSETTO:-0500
TZNAME:EST
DTSTART:20241103T060000
END:STANDARD
BEGIN:DAYLIGHT
TZOFFSETFROM:-0500
TZOFFSETTO:-0400
TZNAME:EDT
DTSTART:20250309T070000
END:DAYLIGHT
BEGIN:STANDARD
TZOFFSETFROM:-0400
TZOFFSETTO:-0500
TZNAME:EST
DTSTART:20251102T060000
END:STANDARD
BEGIN:DAYLIGHT
TZOFFSETFROM:-0500
TZOFFSETTO:-0400
TZNAME:EDT
DTSTART:20260308T070000
END:DAYLIGHT
BEGIN:STANDARD
TZOFFSETFROM:-0400
TZOFFSETTO:-0500
TZNAME:EST
DTSTART:20261101T060000
END:STANDARD
END:VTIMEZONE
BEGIN:VEVENT
DTSTART;TZID=America/Toronto:20250209T090000
DTEND;TZID=America/Toronto:20250209T110000
DTSTAMP:20260421T141358
CREATED:20250109T223343Z
LAST-MODIFIED:20250109T223343Z
UID:3246-1739091600-1739098800@guelphphotographersguild.com
SUMMARY:The Southern Ontario Orchid Society’s Annual Orchid Show
DESCRIPTION:The Southern Ontario Orchid Society’s Annual Orchid Show and Sale will be held on Saturday\, February 8th from noon to 5 pm and on Sunday\, February 9th from 11 am to 4 pm at the Toronto Botanical Garden. \nAs in the past\, our Exhibition Area in the Floral Hall will be full of world-class tropical orchids and displays perfect for photographing.  Once again\, we have set aside two hours on Sunday morning for 55 photographers and their equipment. The Photographers’ Only Session will be Sunday morning\, February 9th\, from 9 am to 11 am.  This is the only time that unipods and tripods are permitted.  Hand-held cameras are always welcomed. \nThe $20 tickets (plus processing fee) are now available online by clicking \nhttps://www.eventbrite.com/e/photographers-only-session-uni-and-tripods-permitted-tickets-1067537095189
URL:https://guelphphotographersguild.com/event/the-southern-ontario-orchid-societys-annual-orchid-show/
CATEGORIES:Events
END:VEVENT
BEGIN:VEVENT
DTSTART;TZID=America/Toronto:20250219T190000
DTEND;TZID=America/Toronto:20250219T213000
DTSTAMP:20260421T141358
CREATED:20241122T202732Z
LAST-MODIFIED:20241122T202807Z
UID:3226-1739991600-1740000600@guelphphotographersguild.com
SUMMARY:February 2025 Monthly Meeting
DESCRIPTION:Why Black and White? — February 19\, 2025 \nCole Thompson \nIn about 75 minutes\, Cole Thompson will make the case that black and white is the perfect medium for any subject…except for one. Cole will show work from his various portfolios including: The Ghosts of Auschwitz-Birkenau\, Harbinger\, Ceiling Lamps\, Moai\, Sitting for Portrait\, The Lone Man\, Powerlines\, and others. \nhttps://guelphphotographersguild.com/2024/06/11/why-black-and-white/
URL:https://guelphphotographersguild.com/event/february-2025-monthly-meeting/
LOCATION:Evergreen Seniors Community Centre\, 683 Woolwich Street\,\, Guelph\, ON\, N1H 3Y8\, Canada
CATEGORIES:Events,Speakers
END:VEVENT
BEGIN:VEVENT
DTSTART;TZID=America/Toronto:20250220T080000
DTEND;TZID=America/Toronto:20250220T170000
DTSTAMP:20260421T141358
CREATED:20250213T212847Z
LAST-MODIFIED:20250213T212931Z
UID:3644-1740038400-1740070800@guelphphotographersguild.com
SUMMARY:2025 Spring Tundra Swan Migration
DESCRIPTION:The Aylmer Wildlife Area is an annual favorite staging area for migrating Tundra Swans. These beautiful swans can be viewed annually during late-Feburary\, into mid March from the Aylmer Wildlife Management Area’s observation decks. The exact timing for this year has yet to be determined\, but keep an eye on this link for updates. \n\n\n\nhttps://www.elginstewardshipcouncil.com/news/tundra-swan-migration/
URL:https://guelphphotographersguild.com/event/2025-spring-tundra-swan-migration/
CATEGORIES:Events,Events Calendar
END:VEVENT
END:VCALENDAR