BEGIN:VCALENDAR
VERSION:2.0
PRODID:-//Guelph Photographers Guild - ECPv6.15.20//NONSGML v1.0//EN
CALSCALE:GREGORIAN
METHOD:PUBLISH
X-WR-CALNAME:Guelph Photographers Guild
X-ORIGINAL-URL:https://guelphphotographersguild.com
X-WR-CALDESC:Events for Guelph Photographers Guild
REFRESH-INTERVAL;VALUE=DURATION:PT1H
X-Robots-Tag:noindex
X-PUBLISHED-TTL:PT1H
BEGIN:VTIMEZONE
TZID:America/Toronto
BEGIN:DAYLIGHT
TZOFFSETFROM:-0500
TZOFFSETTO:-0400
TZNAME:EDT
DTSTART:20240310T070000
END:DAYLIGHT
BEGIN:STANDARD
TZOFFSETFROM:-0400
TZOFFSETTO:-0500
TZNAME:EST
DTSTART:20241103T060000
END:STANDARD
BEGIN:DAYLIGHT
TZOFFSETFROM:-0500
TZOFFSETTO:-0400
TZNAME:EDT
DTSTART:20250309T070000
END:DAYLIGHT
BEGIN:STANDARD
TZOFFSETFROM:-0400
TZOFFSETTO:-0500
TZNAME:EST
DTSTART:20251102T060000
END:STANDARD
BEGIN:DAYLIGHT
TZOFFSETFROM:-0500
TZOFFSETTO:-0400
TZNAME:EDT
DTSTART:20260308T070000
END:DAYLIGHT
BEGIN:STANDARD
TZOFFSETFROM:-0400
TZOFFSETTO:-0500
TZNAME:EST
DTSTART:20261101T060000
END:STANDARD
END:VTIMEZONE
BEGIN:VEVENT
DTSTART;TZID=America/Toronto:20250503T080000
DTEND;TZID=America/Toronto:20250503T170000
DTSTAMP:20260421T092513
CREATED:20250402T030840Z
LAST-MODIFIED:20250402T031908Z
UID:3942-1746259200-1746291600@guelphphotographersguild.com
SUMMARY:Doors Open Hamilton
DESCRIPTION:Doors Open Hamilton 2025\n\n\n\n\n\nThis will be a two day event\, running May 3-4\, 2025 \n\n\n\nSee the website for details (Locations and times still TBA):https://www.hamilton.ca/things-do/festivals-events/doors-open-hamilton
URL:https://guelphphotographersguild.com/event/doors-open-hamilton/
CATEGORIES:Events,Events Calendar
END:VEVENT
BEGIN:VEVENT
DTSTART;TZID=America/Toronto:20250504T080000
DTEND;TZID=America/Toronto:20250504T170000
DTSTAMP:20260421T092513
CREATED:20250402T031824Z
LAST-MODIFIED:20250402T032007Z
UID:3948-1746345600-1746378000@guelphphotographersguild.com
SUMMARY:Doors Open Hamilton
DESCRIPTION:Doors Open Hamilton 2025\n\n\n\n\n\nSee the website for details (Locations and times still TBA):https://www.hamilton.ca/things-do/festivals-events/doors-open-hamilton
URL:https://guelphphotographersguild.com/event/doors-open-hamilton-2/
CATEGORIES:Events,Events Calendar
END:VEVENT
BEGIN:VEVENT
DTSTART;TZID=America/Toronto:20250521T190000
DTEND;TZID=America/Toronto:20250521T213000
DTSTAMP:20260421T092513
CREATED:20241111T203546Z
LAST-MODIFIED:20241122T204821Z
UID:3231-1747854000-1747863000@guelphphotographersguild.com
SUMMARY:May 2025 Monthly Meeting
DESCRIPTION:Documentary Photography and the Hidden Corners of Life – May 21\, 2025 \nJuris Kornets \nProfessional photographer Juris Kornets will talk about his exciting experiences with documentary photography worldwide. From arcane tribal practices of child marriages in India to human trafficking in Nicaragua\, to the effects of drought and violence on children in Africa. \nhttps://guelphphotographersguild.com/2024/11/22/documentary-photography-and-the-hidden-corners-of-life-may-21-2025/
URL:https://guelphphotographersguild.com/event/may-2025-monthly-meeting/
LOCATION:Evergreen Seniors Community Centre\, 683 Woolwich Street\,\, Guelph\, ON\, N1H 3Y8\, Canada
CATEGORIES:Events,Speakers
END:VEVENT
BEGIN:VEVENT
DTSTART;TZID=America/Toronto:20250525T163000
DTEND;TZID=America/Toronto:20250525T190000
DTSTAMP:20260421T092513
CREATED:20250521T014518Z
LAST-MODIFIED:20250521T014931Z
UID:3983-1748190600-1748199600@guelphphotographersguild.com
SUMMARY:May outing
DESCRIPTION:May 2025 outing\n\n\n\n\n\nOur May outing\, will be something only done once before in the Guild. We will be having a photographic scavenger hunt. There will be five topics\, which you will be given at the outing\, and you will be asked to interpret as creatively you can. Of the five\, you will each then pick your best three\, to be uploaded to Smugmug (link for that to come from John\, a day or so after the date of the outing).  We’ll all vote on which we think are the best interpretations of each topic\, with the highest scorer getting bragging rights\, and a gift card to The Vault Coffee & Espresso Bar in wonderful downtown Fergus. \n\n\n\nBecause of the timing for this outing\, we would like to go out for dinner after\, so reservations will need to be made. \n\n\n\nPlease respond ASAP with:(a) your intent to come and(b) your interest in dinner after.Your significant others are invited.Dinner reservations will have to be made by May 21st.\, and we are hoping to book at the Fork on York. \n\n\n\nHere are the specifics. \n\n\n\nDate and time: Sunday May 25\, 4:30pm to 7pm.\, with dinner after. \n\n\n\nLocation: The Guelph Reformatory\, aka. The Yorklands. Meet at the entrance on York Road.Map is here: \n\n\n\nhttps://www.google.com/maps/place/Yorklands+Green+Hub/@43.5567202\,-80.2181237\,1175m/data=!3m1!1e3!4m6!3m5!1s0x882b9b0be675cf49:0x2a8fc07195099429!8m2!3d43.5585045!4d-80.2148075!16s%2Fg%2F11c54fg0nv?hl=en-GB&entry=ttu&g_ep=EgoyMDI1MDUwNi4wIKXMDSoASAFQAw%3D%3D \n\n\n\nWhat to photograph:You will be given five topics at the start of the outing. \n\n\n\nGear:Camera\, wide angle\, medium to mid telephoto\, tripod if you so desire. \n\n\n\nAs stated above\, please respond to this email so that we know numbers and can book a dinner reservation. \n\n\n\nHope to see you there.
URL:https://guelphphotographersguild.com/event/may-2025-outing/
CATEGORIES:Events,Events Calendar,Social Events
END:VEVENT
END:VCALENDAR