BEGIN:VCALENDAR
VERSION:2.0
PRODID:-//Guelph Photographers Guild - ECPv6.15.20//NONSGML v1.0//EN
CALSCALE:GREGORIAN
METHOD:PUBLISH
X-ORIGINAL-URL:https://guelphphotographersguild.com
X-WR-CALDESC:Events for Guelph Photographers Guild
REFRESH-INTERVAL;VALUE=DURATION:PT1H
X-Robots-Tag:noindex
X-PUBLISHED-TTL:PT1H
BEGIN:VTIMEZONE
TZID:America/Toronto
BEGIN:DAYLIGHT
TZOFFSETFROM:-0500
TZOFFSETTO:-0400
TZNAME:EDT
DTSTART:20240310T070000
END:DAYLIGHT
BEGIN:STANDARD
TZOFFSETFROM:-0400
TZOFFSETTO:-0500
TZNAME:EST
DTSTART:20241103T060000
END:STANDARD
BEGIN:DAYLIGHT
TZOFFSETFROM:-0500
TZOFFSETTO:-0400
TZNAME:EDT
DTSTART:20250309T070000
END:DAYLIGHT
BEGIN:STANDARD
TZOFFSETFROM:-0400
TZOFFSETTO:-0500
TZNAME:EST
DTSTART:20251102T060000
END:STANDARD
BEGIN:DAYLIGHT
TZOFFSETFROM:-0500
TZOFFSETTO:-0400
TZNAME:EDT
DTSTART:20260308T070000
END:DAYLIGHT
BEGIN:STANDARD
TZOFFSETFROM:-0400
TZOFFSETTO:-0500
TZNAME:EST
DTSTART:20261101T060000
END:STANDARD
END:VTIMEZONE
BEGIN:VEVENT
DTSTART;TZID=America/Toronto:20250704T080000
DTEND;TZID=America/Toronto:20250704T170000
DTSTAMP:20260421T061523
CREATED:20250612T201742Z
LAST-MODIFIED:20250612T201744Z
UID:4049-1751616000-1751648400@guelphphotographersguild.com
SUMMARY:Agricultural Fairs over this summer
DESCRIPTION:It’s a long list! From July through October 2025 \n\n\n\n\n\nFar too many to do individually\, so here is a link to the Calendar. I’ve already listed all for June\, so have a look at July through to October on the calendar link below. \n\n\n\nhttps://ontarioagsocieties.com/fairs-and-exhibition-directory-calendar/
URL:https://guelphphotographersguild.com/event/agricultural-fairs-over-this-summer/
CATEGORIES:Events,Events Calendar
END:VEVENT
BEGIN:VEVENT
DTSTART;TZID=America/Toronto:20250712T090000
DTEND;TZID=America/Toronto:20250712T160000
DTSTAMP:20260421T061523
CREATED:20250624T030253Z
LAST-MODIFIED:20250624T030254Z
UID:4057-1752310800-1752336000@guelphphotographersguild.com
SUMMARY:A bit of Muskoka nostalgia
DESCRIPTION:43rd Annual The Vintage Boat Show at Gravenhurst\n\n\n\n\n\nA judged show open to all wood vintage and contemporary boats and all classic glass and aluminum boats that are 25 or more years old. See their website for info: \n\n\n\nhttps://acbs.silkstart.com/cpages/vintage-boat-show \n\n\n\nWhere: Muskoka Wharf\, Gravenhurst Ontario \n\n\n\nMap: \n\n\n\nhttps://www.google.com/maps/place/916+Bay+St+Unit+%232\,+Gravenhurst\,+ON+P1P+1Z9/@44.9204842\,-79.3866179\,17z/data=!3m1!4b1!4m6!3m5!1s0x4d2a9af437459eb5:0x85bf62c916011b70!8m2!3d44.9204842!4d-79.384043!16s%2Fg%2F11ll_yxt94?entry=ttu&g_ep=EgoyMDI1MDYxNy4wIKXMDSoASAFQAw%3D%3D \n\n\n\nPARKING AT THE WHARF IS VERY LIMITED.  Avoid the frustration and use our FREE Shuttle Buses to get to and from the show.
URL:https://guelphphotographersguild.com/event/a-bit-of-muskoka-nostalgia/
CATEGORIES:Events,Events Calendar
END:VEVENT
BEGIN:VEVENT
DTSTART;TZID=America/Toronto:20250713T080000
DTEND;TZID=America/Toronto:20250713T120000
DTSTAMP:20260421T061523
CREATED:20250624T145146Z
LAST-MODIFIED:20250624T145148Z
UID:4072-1752393600-1752408000@guelphphotographersguild.com
SUMMARY:Outdoor Photo Trunk Sale
DESCRIPTION:Photographic Historical Society of Canada Outdoor Trunk Sale\n\n\n\n\n\nThe Outdoor Trunk Sale takes place from 8:00 am until noon on 13 Jul 2025 at the Trident Hall\, 145 Evans Avenue\, Toronto\, Ontario. Parking and admission are free. Map is here: \n\n\n\nhttps://www.google.com/maps/place/145+Evans+Ave.\,+Etobicoke\,+ON+M8Z+5X8/@43.618175\,-79.5121695\,17z/data=!3m1!4b1!4m6!3m5!1s0x882b362eaa4744ff:0xaa4d2a5ca17fb0ca!8m2!3d43.618175!4d-79.5095946!16s%2Fg%2F11mx5jnrzw?hl=en-GB&entry=ttu&g_ep=EgoyMDI1MDYxNy4wIKXMDSoASAFQAw%3D%3D
URL:https://guelphphotographersguild.com/event/outdoor-photo-trunk-sale/
CATEGORIES:Events,Events Calendar
END:VEVENT
BEGIN:VEVENT
DTSTART;TZID=America/Toronto:20250726T100000
DTEND;TZID=America/Toronto:20250726T203000
DTSTAMP:20260421T061523
CREATED:20250624T032300Z
LAST-MODIFIED:20250624T032302Z
UID:4060-1753524000-1753561800@guelphphotographersguild.com
SUMMARY:Upcoming Powwow
DESCRIPTION:The 2025 Champion of Champions PowWow\n\n\n\n\n\nPowwows are a time of celebration\, building relationships\, and share in the cultural and social traditions. This 2-day event\, held July 26-27 at Ohsweken Speedway can fill up quickly\, so to get a good seat\, arrive early or bring a lawn chair in case seating is unavailable. Ticket sales will be on-site only\, cash\, Credit\, Debit available. There will be no on-line tickets (be aware of ticket scams). See their website here: \n\n\n\n\nHome\n\n\n\n\nMap: \n\n\n\nhttps://www.google.com/maps/place/1987+Chiefswood+Rd\,+Ohsweken\,+ON+N0A+1M0/@43.0819134\,-80.1125696\,17z/data=!3m1!4b1!4m6!3m5!1s0x882c603b287b64b7:0xecf5c220fdb4c886!8m2!3d43.0819134!4d-80.1099947!16s%2Fg%2F11c194pzkw?hl=en-GB&entry=ttu&g_ep=EgoyMDI1MDYxNy4wIKXMDSoASAFQAw%3D%3D \n\n\n\n$20 day for adults or $30 for 2 day pass
URL:https://guelphphotographersguild.com/event/upcoming-powwow/
CATEGORIES:Events,Events Calendar
END:VEVENT
END:VCALENDAR